Workbook
Name \a: #REF!
Name \a: #REF!
Name \a: #REF!
Name \m: #REF!
Name \m: #REF!
Name \m: #REF!
Name \n: #REF!
Name \n: #REF!
Name \n: #REF!
Name \o: #REF!
Name \o: #REF!
Name \o: #REF!
Name ______ew1: '[1]Приложение №2 '!_xlbgnm.ew1
Name ______fg1: '[1]Приложение №2 '!_xlbgnm.fg1
Name _____ew1: Потери!_____ew1
Name _____ew1: Услуги1!_____ew1
Name _____ew1: [0]!_____ew1
Name _____fg1: Потери!_____fg1
Name _____fg1: Услуги1!_____fg1
Name _____fg1: [0]!_____fg1
Name ____ew1: Потери!____ew1
Name ____ew1: Услуги1!____ew1
Name ____ew1: [0]!____ew1
Name ____fg1: Потери!____fg1
Name ____fg1: Услуги1!____fg1
Name ____fg1: [0]!____fg1
Name ____SP1: [2]FES!#REF!
Name ____SP1: [2]FES!#REF!
Name ____SP1: [2]FES!#REF!
Name ____SP10: [2]FES!#REF!
Name ____SP10: [2]FES!#REF!
Name ____SP10: [2]FES!#REF!
Name ____SP11: [2]FES!#REF!
Name ____SP11: [2]FES!#REF!
Name ____SP11: [2]FES!#REF!
Name ____SP12: [2]FES!#REF!
Name ____SP12: [2]FES!#REF!
Name ____SP12: [2]FES!#REF!
Name ____SP13: [2]FES!#REF!
Name ____SP13: [2]FES!#REF!
Name ____SP13: [2]FES!#REF!
Name ____SP14: [2]FES!#REF!
Name ____SP14: [2]FES!#REF!
Name ____SP14: [2]FES!#REF!
Name ____SP15: [2]FES!#REF!
Name ____SP15: [2]FES!#REF!
Name ____SP15: [2]FES!#REF!
Name ____SP16: [2]FES!#REF!
Name ____SP16: [2]FES!#REF!
Name ____SP16: [2]FES!#REF!
Name ____SP17: [2]FES!#REF!
Name ____SP17: [2]FES!#REF!
Name ____SP17: [2]FES!#REF!
Name ____SP18: [2]FES!#REF!
Name ____SP18: [2]FES!#REF!
Name ____SP18: [2]FES!#REF!
Name ____SP19: [2]FES!#REF!
Name ____SP19: [2]FES!#REF!
Name ____SP19: [2]FES!#REF!
Name ____SP2: [2]FES!#REF!

Sheet ИТОГО ПО
A2: Отчет о потреблении для управлений
A4: Параметры: | C4: Период отчета: 01.08.2026 - 31.08.2026
A5: Отбор: | C5: Подразделение В группе "ООО "НЭСКО"" И Вид долга Равно "Полезный отпуск" И Вид цены Не в списке "" И Договор Не в списке "2874; 5920; 5944; 5945; 5946; 5947; 6540-2201; 6609-1902; 8001-2601; 8003-2408;..."
A7: Тариф | E7: Среднее 1 (СН1) | M7: Среднее 2 (СН2) | T7: Низкое (НН) | AA7: Итого
A8: Группа потребления | E8: Количество кВтч | G8: Количество (покупка) кВт | H8: Количество (передача) кВт | I8: По документам | M8: Количество кВтч | N8: Количество (покупка) кВт | O8: Количество (передача) кВт | P8: По документам | T8: Количество кВтч | U8: Количество (покупка) кВт | V8: Количество (передача) кВт | W8: По документам | AA8: Количество кВтч | AB8: Количество (покупка) кВт | AC8: Количество (передача) кВт | AD8: По документам
A9: Тариф.Ценовая категория | I9: Цена | J9: Сумма без НДС | K9: Сумма НДС | L9: Сумма с НДС | P9: Цена | Q9: Сумма без НДС | R9: Сумма НДС | S9: Сумма с НДС | W9: Цена | X9: Сумма без НДС | Y9: Сумма НДС | Z9: Сумма с НДС | AD9: Цена | AE9: Сумма без НДС | AF9: Сумма НДС | AG9: Сумма с НДС
A10: Группа потребления
A11: Диапазон потребления
A12: Тариф
A13: Группа потребления
A14: 1ЦК/Ставка за электроэнергию/Менее 670 кВт/НН | T14: 5114298.2 | W14: 9.12814 | X14: 46684048 | Y14: 10270757 | Z14: 56954805 | AA14: 5114298.2 | AD14: 11.13639 | AE14: 46684048 | AF14: 10270757 | AG14: 56954805
A15: Городское население, проживающее в домах, оборудованных электроплитами и не оборудованных электроотопительными установка | T15: 24948.486 | W15: 9.14183 | X15: 228074.82 | Y15: 50176.46 | Z15: 278251.28 | AA15: 24948.486 | AD15: 11.15303 | AE15: 228074.82 | AF15: 50176.46 | AG15: 278251.28
A16: Городской бюджет | T16: 977511.14 | W16: 9.14079 | X16: 8935219.4 | Y16: 1965748.2 | Z16: 10900968 | AA16: 977511.14 | AD16: 11.15176 | AE16: 8935219.4 | AF16: 1965748.2 | AG16: 10900968
A17: ГП и ЭСО | T17: 1499.992 | W17: 9.14183 | X17: 13712.67 | Y17: 3016.79 | Z17: 16729.46 | AA17: 1499.992 | AD17: 11.15303 | AE17: 13712.67 | AF17: 3016.79 | AG17: 16729.46
A18: Некоммерческие объединения граждан (гаражно-строительные, гаражные кооперативы) | T18: 53 | W18: 9.14189 | X18: 484.52 | Y18: 106.59 | Z18: 591.11 | AA18: 53 | AD18: 11.15302 | AE18: 484.52 | AF18: 106.59 | AG18: 591.11
A19: Непромышленные потребители | T19: 578278.22 | W19: 9.05223 | X19: 5234705.7 | Y19: 1151635.2 | Z19: 6386341 | AA19: 578278.22 | AD19: 11.04372 | AE19: 5234705.7 | AF19: 1151635.2 | AG19: 6386341
A20: Окружной бюджет | T20: 492721.81 | W20: 9.14183 | X20: 4504379 | Y20: 990963.37 | Z20: 5495342.4 | AA20: 492721.81 | AD20: 11.15303 | AE20: 4504379 | AF20: 990963.37 | AG20: 5495342.4
A21: Предприятия ЖКХ | T21: 362331.3 | W21: 9.14183 | X21: 3312371.2 | Y21: 728721.66 | Z21: 4041092.8 | AA21: 362331.3 | AD21: 11.15303 | AE21: 3312371.2 | AF21: 728721.66 | AG21: 4041092.8
A22: Промышленность | T22: 129355.8 | W22: 9.14183 | X22: 1182548.7 | Y22: 260160.73 | Z22: 1442709.5 | AA22: 129355.8 | AD22: 11.15303 | AE22: 1182548.7 | AF22: 260160.73 | AG22: 1442709.5
A23: Промышленные и приравненные к ним потребители | T23: 2108888 | W23: 9.13848 | X23: 19272030 | Y23: 4240112.5 | Z23: 23512142 | AA23: 2108888 | AD23: 11.14907 | AE23: 19272030 | AF23: 4240112.5 | AG23: 23512142
A24: Прочие | T24: 264552.45 | W24: 10.08805 | X24: 2668818.2 | Y24: 587140.02 | Z24: 3255958.2 | AA24: 264552.45 | AD24: 12.30742 | AE24: 2668818.2 | AF24: 587140.02 | AG24: 3255958.2
A25: Собственные нужды | T25: 23321.86 | W25: -2.02448 | X25: -47214.53 | Y25: -10387.2 | Z25: -57601.73 | AA25: 23321.86 | AD25: -2.46986 | AE25: -47214.53 | AF25: -10387.2 | AG25: -57601.73
A26: Федеральный бюджет | T26: 150836.16 | W26: 9.14183 | X26: 1378918.5 | Y26: 303362.09 | Z26: 1682280.6 | AA26: 150836.16 | AD26: 11.15303 | AE26: 1378918.5 | AF26: 303362.09 | AG26: 1682280.6
A27: 1ЦК/Ставка за электроэнергию/Менее 670 кВт/СН | E27: 128863.25 | I27: 8.61123 | J27: 1109671.1 | K27: 244127.62 | L27: 1353798.7 | AA27: 128863.25 | AD27: 10.5057 | AE27: 1109671.1 | AF27: 244127.62 | AG27: 1353798.7
A28: Непромышленные потребители | E28: 26856.11 | I28: 8.61123 | J28: 231264.14 | K28: 50878.1 | L28: 282142.24 | AA28: 26856.11 | AD28: 10.5057 | AE28: 231264.14 | AF28: 50878.1 | AG28: 282142.24
A29: Промышленность | E29: 102007.14 | I29: 8.61123 | J29: 878406.93 | K29: 193249.52 | L29: 1071656.4 | AA29: 102007.14 | AD29: 10.5057 | AE29: 878406.93 | AF29: 193249.52 | AG29: 1071656.4
A30: 1ЦК/Ставка за электроэнергию/Менее 670 кВт/СН2 | M30: 11211027 | P30: 8.84862 | Q30: 99202105 | R30: 21824463 | S30: 1.2102657e+08 | AA30: 11211027 | AD30: 10.79531 | AE30: 99202105 | AF30: 21824463 | AG30: 1.2102657e+08
A31: Бюджетные организации (содержание осужденных) | M31: 38127.88 | P31: 8.90215 | Q31: 339420.11 | R31: 74672.42 | S31: 414092.53 | AA31: 38127.88 | AD31: 10.86062 | AE31: 339420.11 | AF31: 74672.42 | AG31: 414092.53
A32: Городское население, проживающее в домах, оборудованных электроплитами и не оборудованных электроотопительными установка | M32: 486.263 | P32: 8.90216 | Q32: 4328.79 | R32: 952.33 | S32: 5281.12 | AA32: 486.263 | AD32: 10.86062 | AE32: 4328.79 | AF32: 952.33 | AG32: 5281.12
A33: Городской бюджет | M33: 275717.36 | P33: 8.90203 | Q33: 2454443.8 | R33: 539977.6 | S33: 2994421.4 | AA33: 275717.36 | AD33: 10.86047 | AE33: 2454443.8 | AF33: 539977.6 | AG33: 2994421.4
A34: ГП и ЭСО | M34: 40030.966 | P34: 8.8874 | Q34: 355771.1 | R34: 78269.64 | S34: 434040.74 | AA34: 40030.966 | AD34: 10.84262 | AE34: 355771.1 | AF34: 78269.64 | AG34: 434040.74
A35: Некоммерческие объединения граждан (гаражно-строительные, гаражные кооперативы) | M35: 1463.678 | P35: 8.90215 | Q35: 13029.88 | R35: 2866.58 | S35: 15896.46 | AA35: 1463.678 | AD35: 10.86063 | AE35: 13029.88 | AF35: 2866.58 | AG35: 15896.46
A36: Непромышленные потребители | M36: 3850946 | P36: 8.75991 | Q36: 33733957 | R36: 7421470.6 | S36: 41155427 | AA36: 3850946 | AD36: 10.6871 | AE36: 33733957 | AF36: 7421470.6 | AG36: 41155427
A37: Окружной бюджет | M37: 266761.65 | P37: 8.90333 | Q37: 2375067.5 | R37: 522514.86 | S37: 2897582.4 | AA37: 266761.65 | AD37: 10.86206 | AE37: 2375067.5 | AF37: 522514.86 | AG37: 2897582.4
A38: Предприятия ЖКХ | M38: 91687.388 | P38: 8.90215 | Q38: 816214.88 | R38: 179567.28 | S38: 995782.16 | AA38: 91687.388 | AD38: 10.86062 | AE38: 816214.88 | AF38: 179567.28 | AG38: 995782.16
A39: Промышленность | M39: 838808.34 | P39: 8.90206 | Q39: 7467121.1 | R39: 1642766.6 | S39: 9109887.7 | AA39: 838808.34 | AD39: 10.86051 | AE39: 7467121.1 | AF39: 1642766.6 | AG39: 9109887.7
A40: Промышленные и приравненные к ним потребители | M40: 5070731.7 | P40: 8.89191 | Q40: 45088485 | R40: 9919466.7 | S40: 55007951 | AA40: 5070731.7 | AD40: 10.84813 | AE40: 45088485 | AF40: 9919466.7 | AG40: 55007951
A41: Прочие | M41: 552009.55 | P41: 8.90215 | Q41: 4914070.9 | R41: 1081095.6 | S41: 5995166.5 | AA41: 552009.55 | AD41: 10.86062 | AE41: 4914070.9 | AF41: 1081095.6 | AG41: 5995166.5
... A43: Федеральный бюджет | M43: 170773.47 | P43: 8.90215 | Q43: 1520251.1 | R43: 334455.25 | S43: 1854706.3 | AA43: 170773.47 | AD43: 10.86062 | AE43: 1520251.1 | AF43: 334455.25 | AG43: 1854706.3
A44: 2ЦК/Ставка за электроэнергию/Менее 670 кВт/НН/2 зоны | T44: 3615.411 | W44: 9.15799 | X44: 33109.91 | Y44: 7284.18 | Z44: 40394.09 | AA44: 3615.411 | AD44: 11.17275 | AE44: 33109.91 | AF44: 7284.18 | AG44: 40394.09
...

Sheet Услуги1
A2: Отчет о потреблении для управлений
A4: Параметры: | C4: Период отчета: 01.08.2026 - 31.08.2026
A5: Отбор: | C5: Подразделение В группе "ООО "НЭСКО"" И Вид долга Равно "Полезный отпуск" И Вид цены Не в списке "Купля продажа; Нормативные потери; Сверхнормативные потери" И Договор Не в списке "2874; 5920; 5944; 5945; 5946; 5947; 6540-2201; 6609-1902; 8001-2601; 8003-2408;..."
A7: Тариф | E7: Среднее 1 (СН1) | M7: Среднее 2 (СН2) | T7: Низкое (НН) | AA7: Итого
A8: Группа потребления | E8: Количество кВтч | G8: Количество (покупка) кВт | H8: Количество (передача) кВт | I8: По документам | M8: Количество кВтч | N8: Количество (покупка) кВт | O8: Количество (передача) кВт | P8: По документам | T8: Количество кВтч | U8: Количество (покупка) кВт | V8: Количество (передача) кВт | W8: По документам | AA8: Количество кВтч | AB8: Количество (покупка) кВт | AC8: Количество (передача) кВт | AD8: По документам
A9: Тариф.Ценовая категория | I9: Цена | J9: Сумма без НДС | K9: Сумма НДС | L9: Сумма с НДС | P9: Цена | Q9: Сумма без НДС | R9: Сумма НДС | S9: Сумма с НДС | W9: Цена | X9: Сумма без НДС | Y9: Сумма НДС | Z9: Сумма с НДС | AD9: Цена | AE9: Сумма без НДС | AF9: Сумма НДС | AG9: Сумма с НДС
A10: Группа потребления
A11: Диапазон потребления
A12: Тариф
A13: Группа потребления
A14: 1ЦК/Ставка за электроэнергию/Менее 670 кВт/НН | T14: 5104316.2 | W14: -0.15904 | X14: -811788.89 | Y14: -178327.88 | Z14: -990116.77 | AA14: 5104316.2 | AD14: -0.19398 | AE14: -811788.89 | AF14: -178327.88 | AG14: -990116.77
A15: Городское население, проживающее в домах, оборудованных электроплитами и не оборудованных электроотопительными установка | T15: 24948.486 | AA15: 24948.486
A16: Городской бюджет | T16: 977511.14 | W16: -0.07813 | X16: -76377.62 | Y16: -16803.1 | Z16: -93180.72 | AA16: 977511.14 | AD16: -0.09532 | AE16: -76377.62 | AF16: -16803.1 | AG16: -93180.72
A17: ГП и ЭСО | T17: 1499.992 | AA17: 1499.992
A18: Некоммерческие объединения граждан (гаражно-строительные, гаражные кооперативы) | T18: 53 | AA18: 53
A19: Непромышленные потребители | T19: 568296.22 | W19: -0.45974 | X19: -261270.21 | Y19: -57479.45 | Z19: -318749.66 | AA19: 568296.22 | AD19: -0.56089 | AE19: -261270.21 | AF19: -57479.45 | AG19: -318749.66
A20: Окружной бюджет | T20: 492721.81 | AA20: 492721.81
A21: Предприятия ЖКХ | T21: 362331.3 | AA21: 362331.3
A22: Промышленность | T22: 129355.8 | AA22: 129355.8
A23: Промышленные и приравненные к ним потребители | T23: 2108888 | W23: -0.24351 | X23: -513538.68 | Y23: -112712.79 | Z23: -626251.47 | AA23: 2108888 | AD23: -0.29696 | AE23: -513538.68 | AF23: -112712.79 | AG23: -626251.47
A24: Прочие | T24: 264552.45 | W24: 0.32739 | X24: 86612.15 | Y24: 19054.66 | Z24: 105666.81 | AA24: 264552.45 | AD24: 0.39942 | AE24: 86612.15 | AF24: 19054.66 | AG24: 105666.81
A25: Собственные нужды | T25: 23321.86 | W25: -2.02448 | X25: -47214.53 | Y25: -10387.2 | Z25: -57601.73 | AA25: 23321.86 | AD25: -2.46986 | AE25: -47214.53 | AF25: -10387.2 | AG25: -57601.73
A26: Федеральный бюджет | T26: 150836.16 | AA26: 150836.16
A27: 1ЦК/Ставка за электроэнергию/Менее 670 кВт/СН | E27: 128863.25 | AA27: 128863.25
A28: Непромышленные потребители | E28: 26856.11 | AA28: 26856.11
A29: Промышленность | E29: 102007.14 | AA29: 102007.14
A30: 1ЦК/Ставка за электроэнергию/Менее 670 кВт/СН2 | M30: 11089944 | P30: -0.34253 | Q30: -3798649.2 | R30: -835702.84 | S30: -4634352.1 | AA30: 11089944 | AD30: -0.41789 | AE30: -3798649.2 | AF30: -835702.84 | AG30: -4634352.1
A31: Бюджетные организации (содержание осужденных) | M31: 38127.88 | AA31: 38127.88
A32: Городское население, проживающее в домах, оборудованных электроплитами и не оборудованных электроотопительными установка | M32: 486.263 | AA32: 486.263
A33: Городской бюджет | M33: 275717.36 | P33: -0.01427 | Q33: -3934.75 | R33: -865.65 | S33: -4800.4 | AA33: 275717.36 | AD33: -0.01741 | AE33: -3934.75 | AF33: -865.65 | AG33: -4800.4
A34: ГП и ЭСО | M34: 40030.966 | P34: -0.38944 | Q34: -15589.62 | R34: -3429.72 | S34: -19019.34 | AA34: 40030.966 | AD34: -0.47512 | AE34: -15589.62 | AF34: -3429.72 | AG34: -19019.34
A35: Некоммерческие объединения граждан (гаражно-строительные, гаражные кооперативы) | M35: 1463.678 | AA35: 1463.678
A36: Непромышленные потребители | M36: 3729862.9 | P36: -0.31513 | Q36: -1175389.5 | R36: -258585.69 | S36: -1433975.2 | AA36: 3729862.9 | AD36: -0.38446 | AE36: -1175389.5 | AF36: -258585.69 | AG36: -1433975.2
A37: Окружной бюджет | M37: 266761.65 | P37: 0.13817 | Q37: 36857.36 | R37: 8108.62 | S37: 44965.98 | AA37: 266761.65 | AD37: 0.16856 | AE37: 36857.36 | AF37: 8108.62 | AG37: 44965.98
A38: Предприятия ЖКХ | M38: 91687.388 | AA38: 91687.388
A39: Промышленность | M39: 838808.34 | P39: -0.01068 | Q39: -8954.85 | R39: -1970.07 | S39: -10924.92 | AA39: 838808.34 | AD39: -0.01302 | AE39: -8954.85 | AF39: -1970.07 | AG39: -10924.92
A40: Промышленные и приравненные к ним потребители | M40: 5070731.7 | P40: -0.51699 | Q40: -2621534.2 | R40: -576737.52 | S40: -3198271.7 | AA40: 5070731.7 | AD40: -0.63073 | AE40: -2621534.2 | AF40: -576737.52 | AG40: -3198271.7
A41: Прочие | M41: 552009.55 | P41: -0.0002 | Q41: -111.22 | R41: -24.47 | S41: -135.69 | AA41: 552009.55 | AD41: -0.00025 | AE41: -111.22 | AF41: -24.47 | AG41: -135.69
A42: УК, ТСЖ, ЖСК (МКД оборудованные электроплитами) | M42: 13483.204 | P42: -0.7411 | Q42: -9992.46 | R42: -2198.34 | S42: -12190.8 | AA42: 13483.204 | AD42: -0.90415 | AE42: -9992.46 | AF42: -2198.34 | AG42: -12190.8
A43: Федеральный бюджет | M43: 170773.47 | AA43: 170773.47
...

Sheet 46 титульник
E3: обновление данных для проверки отчёта
E4: Cведения о полезном отпуске (продаже) электрической энергии и мощности отдельным категориям потребителей | S4: Форма № 46-ЭЭ (полезный отпуск)
E6: Субъект РФ | H6: Ханты-Мансийский автономный округ | P6: MANDATORY | S6: Приказ Росстата:_x000D_ Об утверждении формы от 24.03.2022 № 141 | V6: region
E8: =HYPERLINK("https://sp.eias.ru/knowledgebase.php?article=124","Как использовать?") -> Как использовать? | H8: Отчётный период | S8: Месячная, годовая
S10: Сроки предоставления: _x000D_ 25 числа после отчётного месяца,_x000D_ 15 февраля - за отчётный год
E11: Год | H11: 2026 | P11: MANDATORY | V11: rptYear
E12: Месяц | H12: Август | P12: MANDATORY | V12: rptMonth
S15: Предоставляют: _x000D_ - юридические лица, кроме субъектов малого предпринимательства - поставщики электрической энергии (мощности) оптового и розничного рынков электроэнергии (мощности);_x000D_ - гарантирующие поставщики электрической энергии (мощности);_x000D_ - покупатели - субъекты оптового рынка электроэнергии (мощности);_x000D_ - энергосбытовые и энергоснабжающие организации;_x000D_ - участники оптового рынка электроэнергии (мощности), в отношении которых не приняты балансовые решения_x000D_ Федеральной антимонопольной службе по установленному адресу
E16: RST_ORG_ID
E18: Наименование ЮЛ / ИП | H18: ООО "Нижневартовская энергосбытовая компания" | P18: MANDATORY | V18: org
E20: ИНН | H20: 8603109926 | P20: MANDATORY | V20: inn
E21: КПП | H21: 860301001 | P21: MANDATORY | V21: kpp
E22: ОГРН | H22: 1038601750472 | P22: MANDATORY | V22: ogrn
E23: Организационно-правовая форма | H23: 1 23 00 | Общества с ограниченной ответственностью | P23: MANDATORY | V23: opf
E25: Вид(-ы) деятельности | H25: ГП | P25: MANDATORY | V25: activity
E27: Тип отчёта | H27: В целом по организации | P27: MANDATORY | V27: rptType
E29: Наименование обособленного подразделения | P29: =IF(H27="По обособленному подразделению","MANDATORY","OPTIONAL") -> OPTIONAL | V29: subsidiary
E33: Код по ОКПО | H33: 13512888 | P33: MANDATORY | S33: ОКПО - Общероссийский Классификатор Предприятий и Организаций | V33: okpo
E35: ОКАТО | H35: 71135000000 | P35: MANDATORY | S35: ОКАТО - Общероссийский Классификатор Административно-Территориальных Образований | V35: okato
E37: Генерирующая компания | H37: Нет | P37: MANDATORY | V37: gen
E39: Гарантирующий поставщик | H39: Да | P39: MANDATORY | V39: gp
E41: Независимый сбыт | H41: Нет | P41: MANDATORY | S41: ="(на территории: "&IF(REGION_NAME="","субъект Российской Федерации не выбран",REGION_NAME)&")" -> (на территории: Ханты-Мансийский автономный округ) | V41: independentSales
E43: Способ приобретения электроэнергии | H43: с ОРЭМ | P43: MANDATORY | V43: eePurchaseMethod
E45: Система налогообложения | H45: ОСН | P45: MANDATORY | S45: ОСН - общая система налогообложения_x000D_ УСН - упрощенная система налогообложения_x000D_ ПСН - патентная система налогообложения_x000D_ НПД - налог на профессиональный доход_x000D_ ЕСХН - единый сельскохозяйственный налог | V45: taxSystem
E60: Контактные данные
E62: Адрес организации | F62: Юридический | H62: 628611 г.Нижневартовск, ул.Ленина,34А | P62: MANDATORY | V62: addressLegal
F63: Почтовый | H63: 628611 г.Нижневартовск, ул.Ленина,34А | P63: MANDATORY | V63: addressPost
E64: Руководитель | F64: ФИО | H64: Эсауленко Валерий Васильевич | P64: MANDATORY | V64: nameCEO
F65: Контактный телефон | H65: (3466) 47-08-50 | P65: MANDATORY | V65: phoneCEO
E66: Главный бухгалтер | F66: ФИО | H66: Ярмоленко Александра Владимировна | P66: MANDATORY | V66: nameAccountant
F67: Контактный телефон | H67: (3466) 49-15-55 | P67: MANDATORY | V67: phoneAccountant
E68: Должностное лицо, ответственное за составление формы | F68: ФИО | H68: Разяпов Руслан Глимханович | P68: MANDATORY | V68: nameReporting
F69: Должность | H69: Начальник ПАО | P69: MANDATORY | V69: positionReporting
F70: Контактный телефон | H70: (3466) 45-41-43 | P70: MANDATORY | V70: phoneReporting
F71: e-mail | H71: razyapov@gesnv.ru | P71: MANDATORY | V71: emailReporting
E75: Дата последнего обновления реестра организаций: 24.02.2026, 15:30:58
E78: Если срок представления отчёта за период истёк, необходимо указать URL-ссылку на пояснительную записку (документ) | S78: URL-ссылку на пояснительную записку (документ) необходимо указывать только в случае, если срок представления отчёта за период истёк
E80: Образец пояснительной записки (документа) можно скачать по ссылке | H80: =HYPERLINK("https://eias.ru/files/46ee.stx.eias.justification.rtf","Загрузить") -> Загрузить
H85: ="Статистика предоставления отчётов за "&IF(YEAR="","(год не выбран)",YEAR&" год") -> Статистика предоставления отчётов за 2026 год
E86: Январь | F86: Дата отчёта | H86: 25.02.2026 15:12:36
...

Sheet 1
F1: 1PC | G1: 1PC | H1: 1PC | I1: 1PC | J1: 1PC | K1: 1PC | L1: 1PC | M1: 1PC | N1: 1PC | O1: 1PC | P1: 1PC | Q1: 1PC | R1: 1PC | S1: 1PC | T1: 2PC | U1: 2PC | V1: 2PC | W1: 2PC | X1: 2PC | Y1: 2PC | Z1: 2PC | AA1: 2PC | AB1: 2PC | AC1: 2PC | AD1: 2PC | AE1: 2PC | AF1: 2PC | AG1: 2PC | AH1: 35PC | AI1: 35PC | AJ1: 35PC | AK1: 35PC | AL1: 35PC | AM1: 35PC | AN1: 35PC | AO1: 35PC | AP1: 35PC | AQ1: 35PC | AR1: 35PC | AS1: 35PC | AT1: 35PC | AU1: 35PC | AV1: 35PC | AW1: 35PC | AX1: 35PC | AY1: 35PC | AZ1: 35PC | BA1: 35PC | BB1: 35PC | BC1: 35PC | BD1: 35PC | BE1: 35PC | BF1: 35PC | BG1: 35PC | BH1: 35PC | BI1: 35PC | BJ1: 46PC | BK1: 46PC | BL1: 46PC | BM1: 46PC | BN1: 46PC | BO1: 46PC | BP1: 46PC | BQ1: 46PC | BR1: 46PC | BS1: 46PC | BT1: 46PC | BU1: 46PC | BV1: 46PC | BW1: 46PC | BX1: 46PC | BY1: 46PC | BZ1: 46PC | CA1: 46PC | CB1: 46PC | CC1: 46PC | CD1: 46PC | CE1: 46PC | CF1: 46PC | CG1: 46PC | CH1: 46PC | CI1: 46PC | CJ1: 46PC | CK1: 46PC | CL1: 46PC | CM1: 46PC | CN1: 46PC | CO1: 46PC | CP1: 46PC | CQ1: 46PC | CR1: 46PC | CS1: 46PC | CT1: 46PC | CU1: 46PC | CV1: 46PC | CW1: 46PC | CX1: 46PC | CY1: 46PC
F2: TTL | G2: HV | H2: AV1 | I2: AV2 | J2: LV | K2: FSK | L2: GV | M2: TTL | N2: HV | O2: AV1 | P2: AV2 | Q2: LV | R2: FSK | S2: GV | T2: TTL | U2: HV | V2: AV1 | W2: AV2 | X2: LV | Y2: FSK | Z2: GV | AA2: TTL | AB2: HV | AC2: AV1 | AD2: AV2 | AE2: LV | AF2: FSK | AG2: GV | AH2: TTL | AI2: HV | AJ2: AV1 | AK2: AV2 | AL2: LV | AM2: FSK | AN2: GV | AO2: TTL | AP2: HV | AQ2: AV1 | AR2: AV2 | AS2: LV | AT2: FSK | AU2: GV | AV2: TTL | AW2: HV | AX2: AV1 | AY2: AV2 | AZ2: LV | BA2: FSK | BB2: GV | BC2: TTL | BD2: HV | BE2: AV1 | BF2: AV2 | BG2: LV | BH2: FSK | BI2: GV | BJ2: TTL | BK2: HV | BL2: AV1 | BM2: AV2 | BN2: LV | BO2: FSK | BP2: GV | BQ2: TTL | BR2: HV | BS2: AV1 | BT2: AV2 | BU2: LV | BV2: FSK | BW2: GV | BX2: TTL | BY2: HV | BZ2: AV1 | CA2: AV2 | CB2: LV | CC2: FSK | CD2: GV | CE2: TTL | CF2: HV | CG2: AV1 | CH2: AV2 | CI2: LV | CJ2: FSK | CK2: GV | CL2: TTL | CM2: HV | CN2: AV1 | CO2: AV2 | CP2: LV | CQ2: FSK | CR2: GV | CS2: TTL | CT2: HV | CU2: AV1 | CV2: AV2 | CW2: LV | CX2: FSK | CY2: GV
F3: enrVlm1pcTtl | G3: enrVlm1pcHv | H3: enrVlm1pcAv1 | I3: enrVlm1pcAv2 | J3: enrVlm1pcLv | K3: enrVlm1pcFsk | L3: enrVlm1pcGv | M3: enrCost1pcTtl | N3: enrCost1pcHv | O3: enrCost1pcAv1 | P3: enrCost1pcAv2 | Q3: enrCost1pcLv | R3: enrCost1pcFsk | S3: enrCost1pcGv | T3: enrVlm2pcTtl | U3: enrVlm2pcHv | V3: enrVlm2pcAv1 | W3: enrVlm2pcAv2 | X3: enrVlm2pcLv | Y3: enrVlm2pcFsk | Z3: enrVlm2pcGv | AA3: enrCost2pcTtl | AB3: enrCost2pcHv | AC3: enrCost2pcAv1 | AD3: enrCost2pcAv2 | AE3: enrCost2pcLv | AF3: enrCost2pcFsk | AG3: enrCost2pcGv | AH3: enrVlm35pcTtl | AI3: enrVlm35pcHv | AJ3: enrVlm35pcAv1 | AK3: enrVlm35pcAv2 | AL3: enrVlm35pcLv | AM3: enrVlm35pcFsk | AN3: enrVlm35pcGv | AO3: enrCost35pcTtl | AP3: enrCost35pcHv | AQ3: enrCost35pcAv1 | AR3: enrCost35pcAv2 | AS3: enrCost35pcLv | AT3: enrCost35pcFsk | AU3: enrCost35pcGv | AV3: pwrVlm35pcTtl | AW3: pwrVlm35pcHv | AX3: pwrVlm35pcAv1 | AY3: pwrVlm35pcAv2 | AZ3: pwrVlm35pcLv | BA3: pwrVlm35pcFsk | BB3: pwrVlm35pcGv | BC3: pwrCost35pcTtl | BD3: pwrCost35pcHv | BE3: pwrCost35pcAv1 | BF3: pwrCost35pcAv2 | BG3: pwrCost35pcLv | BH3: pwrCost35pcFsk | BI3: pwrCost35pcGv | BJ3: enrVlm46pcTtl | BK3: enrVlm46pcHv | BL3: enrVlm46pcAv1 | BM3: enrVlm46pcAv2 | BN3: enrVlm46pcLv | BO3: enrVlm46pcFsk | BP3: enrVlm46pcGv | BQ3: enrCost46pcTtl | BR3: enrCost46pcHv | BS3: enrCost46pcAv1 | BT3: enrCost46pcAv2 | BU3: enrCost46pcLv | BV3: enrCost46pcFsk | BW3: enrCost46pcGv | BX3: pwrVlm46pcTtl | BY3: pwrVlm46pcHv | BZ3: pwrVlm46pcAv1 | CA3: pwrVlm46pcAv2 | CB3: pwrVlm46pcLv | CC3: pwrVlm46pcFsk | CD3: pwrVlm46pcGv | CE3: pwrCost46pcTtl | CF3: pwrCost46pcHv | CG3: pwrCost46pcAv1 | CH3: pwrCost46pcAv2 | CI3: pwrCost46pcLv | CJ3: pwrCost46pcFsk | CK3: pwrCost46pcGv | CL3: pwrTrVlm46pcTtl | CM3: pwrTrVlm46pcHv | CN3: pwrTrVlm46pcAv1 | CO3: pwrTrVlm46pcAv2 | CP3: pwrTrVlm46pcLv | CQ3: pwrTrVlm46pcFsk | CR3: pwrTrVlm46pcGv | CS3: pwrTrCost46pcTtl | CT3: pwrTrCost46pcHv | CU3: pwrTrCost46pcAv1 | CV3: pwrTrCost46pcAv2 | CW3: pwrTrCost46pcLv | CX3: pwrTrCost46pcFsk | CY3: pwrTrCost46pcGv
D8: Раздел I. Полезный отпуск электроэнергии и мощности, реализуемой по нерегулируемым ценам в ценовых зонах оптового рынка и по регулируемым ценам (тарифа) в неценовых зонах ОРЭ
D9: А. Полезный отпуск электроэнергии и мощности, реализуемой по нерегулируемым (в ценовых зонах ОРЭ) и по регулируемым (в неценовых зонах ОРЭ) ценам по договорам энергоснабжения
D10: ООО "Нижневартовская энергосбытовая компания" | CY10: Коды по ОКЕИ: 1000 киловатт-часов – 245, мегаватт – 215, тысяча рублей – 384
D11: * Постановление Правительства Российской Федерации от 26 ноября 2021 г. №2062 | M11: без НДС | AA11: без НДС | AO11: без НДС | BC11: без НДС | BQ11: без НДС | CE11: без НДС | CS11: без НДС
D12: Потребители | E12: Код строки | F12: 1 ценовая категория | T12: 2 ценовая категория | AH12: 3 и 5 ценовые категории | AV12: 3 и 5 ценовые категории | BJ12: 4 и 6 ценовые категории | BX12: 4 и 6 ценовые категории | CL12: 4 и 6 ценовые категории
F13: Объём электрической энергии (мощности) потребителей за отчётный месяц (год) | M13: Стоимость электрической энергии (мощности) потребителей за отчётный месяц (год) | T13: Объём электрической энергии (мощности) потребителей за отчётный месяц (год) | AA13: Стоимость электрической энергии (мощности) потребителей за отчётный месяц (год) | AH13: Объём электрической энергии потребителей за отчётный месяц (год) | AO13: Стоимость электрической энергии потребителей за отчётный месяц (год) | AV13: Объём электрической мощности за отчётный месяц (год) | BC13: Стоимость электрической мощности за отчётный месяц (год) | BJ13: Объём электрической энергии потребителей за отчётный месяц (год) | BQ13: Стоимость электрической энергии потребителей за отчётный месяц (год) | BX13: Объём электрической мощности за отчётный месяц (год) | CE13: Стоимость электрической мощности за отчётный месяц (год) | CL13: Объём мощности услуг по передаче электроэнергии потребителей за отчётный месяц (год) | CS13: Стоимость мощности услуг по передаче электроэнергии потребителей за отчётный месяц (год)
F14: всего | G14: в том числе: | M14: всего | N14: в том числе: | T14: всего | U14: в том числе: | AA14: всего | AB14: в том числе: | AH14: всего | AI14: в том числе: | AO14: всего | AP14: в том числе: | AV14: всего | AW14: в том числе: | BC14: всего | BD14: в том числе: | BJ14: всего | BK14: в том числе: | BQ14: всего | BR14: в том числе: | BX14: всего | BY14: в том числе: | CE14: всего | CF14: в том числе: | CL14: всего | CM14: в том числе: | CS14: всего | CT14: в том числе:
G15: ВН | H15: СН1 | I15: СН2 | J15: НН | K15: ФСК | L15: ГН | N15: ВН | O15: СН1 | P15: СН2 | Q15: НН | R15: ФСК | S15: ГН | U15: ВН | V15: СН1 | W15: СН2 | X15: НН | Y15: ФСК | Z15: ГН | AB15: ВН | AC15: СН1 | AD15: СН2 | AE15: НН | AF15: ФСК | AG15: ГН | AI15: ВН | AJ15: СН1 | AK15: СН2 | AL15: НН | AM15: ФСК | AN15: ГН | AP15: ВН | AQ15: СН1 | AR15: СН2 | AS15: НН | AT15: ФСК | AU15: ГН | AW15: ВН | AX15: СН1 | AY15: СН2 | AZ15: НН | BA15: ФСК | BB15: ГН | BD15: ВН | BE15: СН1 | BF15: СН2 | BG15: НН | BH15: ФСК | BI15: ГН | BK15: ВН | BL15: СН1 | BM15: СН2 | BN15: НН | BO15: ФСК | BP15: ГН | BR15: ВН | BS15: СН1 | BT15: СН2 | BU15: НН | BV15: ФСК | BW15: ГН | BY15: ВН | BZ15: СН1 | CA15: СН2 | CB15: НН | CC15: ФСК | CD15: ГН | CF15: ВН | CG15: СН1 | CH15: СН2 | CI15: НН | CJ15: ФСК | CK15: ГН | CM15: ВН | CN15: СН1 | CO15: СН2 | CP15: НН | CQ15: ФСК | CR15: ГН | CT15: ВН | CU15: СН1 | CV15: СН2 | CW15: НН | CX15: ФСК | CY15: ГН
F16: тыс.кВтч | G16: тыс.кВтч | H16: тыс.кВтч | I16: тыс.кВтч | J16: тыс.кВтч | K16: тыс.кВтч | L16: тыс.кВтч | M16: тыс.руб. | N16: тыс.руб. | O16: тыс.руб. | P16: тыс.руб. | Q16: тыс.руб. | R16: тыс.руб. | S16: тыс.руб. | T16: тыс.кВтч | U16: тыс.кВтч | V16: тыс.кВтч | W16: тыс.кВтч | X16: тыс.кВтч | Y16: тыс.кВтч | Z16: тыс.кВтч | AA16: тыс.руб. | AB16: тыс.руб. | AC16: тыс.руб. | AD16: тыс.руб. | AE16: тыс.руб. | AF16: тыс.руб. | AG16: тыс.руб. | AH16: тыс.кВтч | AI16: тыс.кВтч | AJ16: тыс.кВтч | AK16: тыс.кВтч | AL16: тыс.кВтч | AM16: тыс.кВтч | AN16: тыс.кВтч | AO16: тыс.руб. | AP16: тыс.руб. | AQ16: тыс.руб. | AR16: тыс.руб. | AS16: тыс.руб. | AT16: тыс.руб. | AU16: тыс.руб. | AV16: МВт | AW16: МВт | AX16: МВт | AY16: МВт | AZ16: МВт | BA16: МВт | BB16: МВт | BC16: тыс.руб. | BD16: тыс.руб. | BE16: тыс.руб. | BF16: тыс.руб. | BG16: тыс.руб. | BH16: тыс.руб. | BI16: тыс.руб. | BJ16: тыс.кВтч | BK16: тыс.кВтч | BL16: тыс.кВтч | BM16: тыс.кВтч | BN16: тыс.кВтч | BO16: тыс.кВтч | BP16: тыс.кВтч | BQ16: тыс.руб. | BR16: тыс.руб. | BS16: тыс.руб. | BT16: тыс.руб. | BU16: тыс.руб. | BV16: тыс.руб. | BW16: тыс.руб. | BX16: МВт | BY16: МВт | BZ16: МВт | CA16: МВт | CB16: МВт | CC16: МВт | CD16: МВт | CE16: тыс.руб. | CF16: тыс.руб. | CG16: тыс.руб. | CH16: тыс.руб. | CI16: тыс.руб. | CJ16: тыс.руб. | CK16: тыс.руб. | CL16: МВт | CM16: МВт | CN16: МВт | CO16: МВт | CP16: МВт | CQ16: МВт | CR16: МВт | CS16: тыс.руб. | CT16: тыс.руб. | CU16: тыс.руб. | CV16: тыс.руб. | CW16: тыс.руб. | CX16: тыс.руб. | CY16: тыс.руб.
D17: 1 | E17: 2 | F17: 3 | G17: 4 | H17: 5 | I17: 6 | J17: 7 | K17: 8 | L17: 9 | M17: 10 | N17: 11 | O17: 12 | P17: 13 | Q17: 14 | R17: 15 | S17: 16 | T17: 17 | U17: 18 | V17: 19 | W17: 20 | X17: 21 | Y17: 22 | Z17: 23 | AA17: 24 | AB17: 25 | AC17: 26 | AD17: 27 | AE17: 28 | AF17: 29 | AG17: 30 | AH17: 31 | AI17: 32 | AJ17: 33 | AK17: 34 | AL17: 35 | AM17: 36 | AN17: 37 | AO17: 38 | AP17: 39 | AQ17: 40 | AR17: 41 | AS17: 42 | AT17: 43 | AU17: 44 | AV17: 45 | AW17: 46 | AX17: 47 | AY17: 48 | AZ17: 49 | BA17: 50 | BB17: 51 | BC17: 52 | BD17: 53 | BE17: 54 | BF17: 55 | BG17: 56 | BH17: 57 | BI17: 58 | BJ17: 59 | BK17: 60 | BL17: 61 | BM17: 62 | BN17: 63 | BO17: 64 | BP17: 65 | BQ17: 66 | BR17: 67 | BS17: 68 | BT17: 69 | BU17: 70 | BV17: 71 | BW17: 72 | BX17: 73 | BY17: 74 | BZ17: 75 | CA17: 76 | CB17: 77 | CC17: 78 | CD17: 79 | CE17: 80 | CF17: 81 | CG17: 82 | CH17: 83 | CI17: 84 | CJ17: 85 | CK17: 86 | CL17: 87 | CM17: 88 | CN17: 89 | CO17: 90 | CP17: 91 | CQ17: 92 | CR17: 93 | CS17: 94 | CT17: 95 | CU17: 96 | CV17: 97 | CW17: 98 | CX17: 99 | CY17: 100
D18: Поставка электрической энергии гарантирующим поставщиком потребителям (покупателям), функционирующим в зоне деятельности данного ГП | E18: 100 | F18: =SUM(G18:L18) -> 12516.071 | G18: =SUM(G19,G37,G55) -> 0 | H18: =SUM(H19,H37,H55) -> 128.86325 | I18: =SUM(I19,I37,I55) -> 7297.9414 | J18: =SUM(J19,J37,J55) -> 5089.2661 | K18: =SUM(K19,K37,K55) -> 0 | L18: =SUM(L19,L37,L55) -> 0 | M18: =SUM(N18:S18) -> 112557.43 | N18: =SUM(N19,N37,N55) -> 0 | O18: =SUM(O19,O37,O55) -> 1109.6711 | P18: =SUM(P19,P37,P55) -> 64938.261 | Q18: =SUM(Q19,Q37,Q55) -> 46509.498 | R18: =SUM(R19,R37,R55) -> 0 | S18: =SUM(S19,S37,S55) -> 0 | T18: =SUM(U18:Z18) -> 319.3738 | U18: =SUM(U19,U37,U55) -> 0 | V18: =SUM(V19,V37,V55) -> 0 | W18: =SUM(W19,W37,W55) -> 315.75838 | X18: =SUM(X19,X37,X55) -> 3.615411 | Y18: =SUM(Y19,Y37,Y55) -> 0 | Z18: =SUM(Z19,Z37,Z55) -> 0 | AA18: =SUM(AB18:AG18) -> 2869.5725 | AB18: =SUM(AB19,AB37,AB55) -> 0 | AC18: =SUM(AC19,AC37,AC55) -> 0 | AD18: =SUM(AD19,AD37,AD55) -> 2836.4626 | AE18: =SUM(AE19,AE37,AE55) -> 33.10991 | AF18: =SUM(AF19,AF37,AF55) -> 0 | AG18: =SUM(AG19,AG37,AG55) -> 0 | AH18: =SUM(AI18:AN18) -> 3522.0731 | AI18: =SUM(AI19,AI37,AI55) -> 0 | AJ18: =SUM(AJ19,AJ37,AJ55) -> 2156.7365 | AK18: =SUM(AK19,AK37,AK55) -> 1343.1396 | AL18: =SUM(AL19,AL37,AL55) -> 22.19699 | AM18: =SUM(AM19,AM37,AM55) -> 0 | AN18: =SUM(AN19,AN37,AN55) -> 0 | AO18: =SUM(AP18:AU18) -> 24593.529 | AP18: =SUM(AP19,AP37,AP55) -> 0 | AQ18: =SUM(AQ19,AQ37,AQ55) -> 14700.112 | AR18: =SUM(AR19,AR37,AR55) -> 9729.7407 | AS18: =SUM(AS19,AS37,AS55) -> 163.67624 | AT18: =SUM(AT19,AT37,AT55) -> 0 | AU18: =SUM(AU19,AU37,AU55) -> 0 | AV18: =SUM(AW18:BB18) -> 5.169207 | AW18: =SUM(AW19,AW37,AW55) -> 0 | AX18: =SUM(AX19,AX37,AX55) -> 2.940342 | AY18: =SUM(AY19,AY37,AY55) -> 2.191685 | AZ18: =SUM(AZ19,AZ37,AZ55) -> 0.03718 | BA18: =SUM(BA19,BA37,BA55) -> 0 | BB18: =SUM(BB19,BB37,BB55) -> 0 | BC18: =SUM(BD18:BI18) -> 5951.3257 | BD18: =SUM(BD19,BD37,BD55) -> 0 | BE18: =SUM(BE19,BE37,BE55) -> 3385.2258 | BF18: =SUM(BF19,BF37,BF55) -> 2523.2945 | BG18: =SUM(BG19,BG37,BG55) -> 42.80546 | BH18: =SUM(BH19,BH37,BH55) -> 0 | BI18: =SUM(BI19,BI37,BI55) -> 0 | BJ18: =SUM(BK18:BP18) -> 4061.4463 | BK18: =SUM(BK19,BK37,BK55) -> 0 | BL18: =SUM(BL19,BL37,BL55) -> 0 | BM18: =SUM(BM19,BM37,BM55) -> 217.17771 | BN18: =SUM(BN19,BN37,BN55) -> 3844.2685 | BO18: =SUM(BO19,BO37,BO55) -> 0 | BP18: =SUM(BP19,BP37,BP55) -> 0 | BQ18: =SUM(BR18:BW18) -> 14701.4 | BR18: =SUM(BR19,BR37,BR55) -> 0 | BS18: =SUM(BS19,BS37,BS55) -> 0 | BT18: =SUM(BT19,BT37,BT55) -> 705.60098 | BU18: =SUM(BU19,BU37,BU55) -> 13995.799 | BV18: =SUM(BV19,BV37,BV55) -> 0 | BW18: =SUM(BW19,BW37,BW55) -> 0 | BX18: =SUM(BY18:CD18) -> 6.898006 | BY18: =SUM(BY19,BY37,BY55) -> 0 | BZ18: =SUM(BZ19,BZ37,BZ55) -> 0 | CA18: =SUM(CA19,CA37,CA55) -> 0.34006 | CB18: =SUM(CB19,CB37,CB55) -> 6.557946 | CC18: =SUM(CC19,CC37,CC55) -> 0 | CD18: =SUM(CD19,CD37,CD55) -> 0 | CE18: =SUM(CF18:CK18) -> 7941.698 | CF18: =SUM(CF19,CF37,CF55) -> 0 | CG18: =SUM(CG19,CG37,CG55) -> 0 | CH18: =SUM(CH19,CH37,CH55) -> 391.51225 | CI18: =SUM(CI19,CI37,CI55) -> 7550.1857 | CJ18: =SUM(CJ19,CJ37,CJ55) -> 0 | CK18: =SUM(CK19,CK37,CK55) -> 0 | CL18: =SUM(CM18:CR18) -> 7.489472 | CM18: =SUM(CM19,CM37,CM55) -> 0 | CN18: =SUM(CN19,CN37,CN55) -> 0 | CO18: =SUM(CO19,CO37,CO55) -> 0.376606 | CP18: =SUM(CP19,CP37,CP55) -> 7.112866 | CQ18: =SUM(CQ19,CQ37,CQ55) -> 0 | CR18: =SUM(CR19,CR37,CR55) -> 0 | CS18: =SUM(CT18:CY18) -> 8350.5455 | CT18: =SUM(CT19,CT37,CT55) -> 0 | CU18: =SUM(CU19,CU37,CU55) -> 0 | CV18: =SUM(CV19,CV37,CV55) -> 1054.1739 | CW18: =SUM(CW19,CW37,CW55) -> 7296.3716 | CX18: =SUM(CX19,CX37,CX55) -> 0 | CY18: =SUM(CY19,CY37,CY55) -> 0
D19: Потребители с максимальной мощностью принадлежащих им энергопринимающих устройств не менее 10 МВт | E19: 200 | F19: =SUM(G19:L19) -> 0 | G19: =SUM(G20,G30:G36) -> 0 | H19: =SUM(H20,H30:H36) -> 0 | I19: =SUM(I20,I30:I36) -> 0 | J19: =SUM(J20,J30:J36) -> 0 | K19: =SUM(K20,K30:K36) -> 0 | L19: =SUM(L20,L30:L36) -> 0 | M19: =SUM(N19:S19) -> 0 | N19: =SUM(N20,N30:N36) -> 0 | O19: =SUM(O20,O30:O36) -> 0 | P19: =SUM(P20,P30:P36) -> 0 | Q19: =SUM(Q20,Q30:Q36) -> 0 | R19: =SUM(R20,R30:R36) -> 0 | S19: =SUM(S20,S30:S36) -> 0 | T19: =SUM(U19:Z19) -> 0 | U19: =SUM(U20,U30:U36) -> 0 | V19: =SUM(V20,V30:V36) -> 0 | W19: =SUM(W20,W30:W36) -> 0 | X19: =SUM(X20,X30:X36) -> 0 | Y19: =SUM(Y20,Y30:Y36) -> 0 | Z19: =SUM(Z20,Z30:Z36) -> 0 | AA19: =SUM(AB19:AG19) -> 0 | AB19: =SUM(AB20,AB30:AB36) -> 0 | AC19: =SUM(AC20,AC30:AC36) -> 0 | AD19: =SUM(AD20,AD30:AD36) -> 0 | AE19: =SUM(AE20,AE30:AE36) -> 0 | AF19: =SUM(AF20,AF30:AF36) -> 0 | AG19: =SUM(AG20,AG30:AG36) -> 0 | AH19: =SUM(AI19:AN19) -> 0 | AI19: =SUM(AI20,AI30:AI36) -> 0 | AJ19: =SUM(AJ20,AJ30:AJ36) -> 0 | AK19: =SUM(AK20,AK30:AK36) -> 0 | AL19: =SUM(AL20,AL30:AL36) -> 0 | AM19: =SUM(AM20,AM30:AM36) -> 0 | AN19: =SUM(AN20,AN30:AN36) -> 0 | AO19: =SUM(AP19:AU19) -> 0 | AP19: =SUM(AP20,AP30:AP36) -> 0 | AQ19: =SUM(AQ20,AQ30:AQ36) -> 0 | AR19: =SUM(AR20,AR30:AR36) -> 0 | AS19: =SUM(AS20,AS30:AS36) -> 0 | AT19: =SUM(AT20,AT30:AT36) -> 0 | AU19: =SUM(AU20,AU30:AU36) -> 0 | AV19: =SUM(AW19:BB19) -> 0 | AW19: =SUM(AW20,AW30:AW36) -> 0 | AX19: =SUM(AX20,AX30:AX36) -> 0 | AY19: =SUM(AY20,AY30:AY36) -> 0 | AZ19: =SUM(AZ20,AZ30:AZ36) -> 0 | BA19: =SUM(BA20,BA30:BA36) -> 0 | BB19: =SUM(BB20,BB30:BB36) -> 0 | BC19: =SUM(BD19:BI19) -> 0 | BD19: =SUM(BD20,BD30:BD36) -> 0 | BE19: =SUM(BE20,BE30:BE36) -> 0 | BF19: =SUM(BF20,BF30:BF36) -> 0 | BG19: =SUM(BG20,BG30:BG36) -> 0 | BH19: =SUM(BH20,BH30:BH36) -> 0 | BI19: =SUM(BI20,BI30:BI36) -> 0 | BJ19: =SUM(BK19:BP19) -> 0 | BK19: =SUM(BK20,BK30:BK36) -> 0 | BL19: =SUM(BL20,BL30:BL36) -> 0 | BM19: =SUM(BM20,BM30:BM36) -> 0 | BN19: =SUM(BN20,BN30:BN36) -> 0 | BO19: =SUM(BO20,BO30:BO36) -> 0 | BP19: =SUM(BP20,BP30:BP36) -> 0 | BQ19: =SUM(BR19:BW19) -> 0 | BR19: =SUM(BR20,BR30:BR36) -> 0 | BS19: =SUM(BS20,BS30:BS36) -> 0 | BT19: =SUM(BT20,BT30:BT36) -> 0 | BU19: =SUM(BU20,BU30:BU36) -> 0 | BV19: =SUM(BV20,BV30:BV36) -> 0 | BW19: =SUM(BW20,BW30:BW36) -> 0 | BX19: =SUM(BY19:CD19) -> 0 | BY19: =SUM(BY20,BY30:BY36) -> 0 | BZ19: =SUM(BZ20,BZ30:BZ36) -> 0 | CA19: =SUM(CA20,CA30:CA36) -> 0 | CB19: =SUM(CB20,CB30:CB36) -> 0 | CC19: =SUM(CC20,CC30:CC36) -> 0 | CD19: =SUM(CD20,CD30:CD36) -> 0 | CE19: =SUM(CF19:CK19) -> 0 | CF19: =SUM(CF20,CF30:CF36) -> 0 | CG19: =SUM(CG20,CG30:CG36) -> 0 | CH19: =SUM(CH20,CH30:CH36) -> 0 | CI19: =SUM(CI20,CI30:CI36) -> 0 | CJ19: =SUM(CJ20,CJ30:CJ36) -> 0 | CK19: =SUM(CK20,CK30:CK36) -> 0 | CL19: =SUM(CM19:CR19) -> 0 | CM19: =SUM(CM20,CM30:CM36) -> 0 | CN19: =SUM(CN20,CN30:CN36) -> 0 | CO19: =SUM(CO20,CO30:CO36) -> 0 | CP19: =SUM(CP20,CP30:CP36) -> 0 | CQ19: =SUM(CQ20,CQ30:CQ36) -> 0 | CR19: =SUM(CR20,CR30:CR36) -> 0 | CS19: =SUM(CT19:CY19) -> 0 | CT19: =SUM(CT20,CT30:CT36) -> 0 | CU19: =SUM(CU20,CU30:CU36) -> 0 | CV19: =SUM(CV20,CV30:CV36) -> 0 | CW19: =SUM(CW20,CW30:CW36) -> 0 | CX19: =SUM(CX20,CX30:CX36) -> 0 | CY19: =SUM(CY20,CY30:CY36) -> 0
D20: Потребители электрической энергии (мощности) на территории Дальневосточного федерального округа, в отношении которых осуществляется доведение цен (тарифов) на электрическую энергию (мощность) до базовых уровней цен (тарифов) на электрическую энергию (мощность) | E20: 210 | F20: =SUM(G20:L20) -> 0 | G20: =SUM(G21:G29) -> 0 | H20: =SUM(H21:H29) -> 0 | I20: =SUM(I21:I29) -> 0 | J20: =SUM(J21:J29) -> 0 | K20: =SUM(K21:K29) -> 0 | L20: =SUM(L21:L29) -> 0 | M20: =SUM(N20:S20) -> 0 | N20: =SUM(N21:N29) -> 0 | O20: =SUM(O21:O29) -> 0 | P20: =SUM(P21:P29) -> 0 | Q20: =SUM(Q21:Q29) -> 0 | R20: =SUM(R21:R29) -> 0 | S20: =SUM(S21:S29) -> 0 | T20: =SUM(U20:Z20) -> 0 | U20: =SUM(U21:U29) -> 0 | V20: =SUM(V21:V29) -> 0 | W20: =SUM(W21:W29) -> 0 | X20: =SUM(X21:X29) -> 0 | Y20: =SUM(Y21:Y29) -> 0 | Z20: =SUM(Z21:Z29) -> 0 | AA20: =SUM(AB20:AG20) -> 0 | AB20: =SUM(AB21:AB29) -> 0 | AC20: =SUM(AC21:AC29) -> 0 | AD20: =SUM(AD21:AD29) -> 0 | AE20: =SUM(AE21:AE29) -> 0 | AF20: =SUM(AF21:AF29) -> 0 | AG20: =SUM(AG21:AG29) -> 0 | AH20: =SUM(AI20:AN20) -> 0 | AI20: =SUM(AI21:AI29) -> 0 | AJ20: =SUM(AJ21:AJ29) -> 0 | AK20: =SUM(AK21:AK29) -> 0 | AL20: =SUM(AL21:AL29) -> 0 | AM20: =SUM(AM21:AM29) -> 0 | AN20: =SUM(AN21:AN29) -> 0 | AO20: =SUM(AP20:AU20) -> 0 | AP20: =SUM(AP21:AP29) -> 0 | AQ20: =SUM(AQ21:AQ29) -> 0 | AR20: =SUM(AR21:AR29) -> 0 | AS20: =SUM(AS21:AS29) -> 0 | AT20: =SUM(AT21:AT29) -> 0 | AU20: =SUM(AU21:AU29) -> 0 | AV20: =SUM(AW20:BB20) -> 0 | AW20: =SUM(AW21:AW29) -> 0 | AX20: =SUM(AX21:AX29) -> 0 | AY20: =SUM(AY21:AY29) -> 0 | AZ20: =SUM(AZ21:AZ29) -> 0 | BA20: =SUM(BA21:BA29) -> 0 | BB20: =SUM(BB21:BB29) -> 0 | BC20: =SUM(BD20:BI20) -> 0 | BD20: =SUM(BD21:BD29) -> 0 | BE20: =SUM(BE21:BE29) -> 0 | BF20: =SUM(BF21:BF29) -> 0 | BG20: =SUM(BG21:BG29) -> 0 | BH20: =SUM(BH21:BH29) -> 0 | BI20: =SUM(BI21:BI29) -> 0 | BJ20: =SUM(BK20:BP20) -> 0 | BK20: =SUM(BK21:BK29) -> 0 | BL20: =SUM(BL21:BL29) -> 0 | BM20: =SUM(BM21:BM29) -> 0 | BN20: =SUM(BN21:BN29) -> 0 | BO20: =SUM(BO21:BO29) -> 0 | BP20: =SUM(BP21:BP29) -> 0 | BQ20: =SUM(BR20:BW20) -> 0 | BR20: =SUM(BR21:BR29) -> 0 | BS20: =SUM(BS21:BS29) -> 0 | BT20: =SUM(BT21:BT29) -> 0 | BU20: =SUM(BU21:BU29) -> 0 | BV20: =SUM(BV21:BV29) -> 0 | BW20: =SUM(BW21:BW29) -> 0 | BX20: =SUM(BY20:CD20) -> 0 | BY20: =SUM(BY21:BY29) -> 0 | BZ20: =SUM(BZ21:BZ29) -> 0 | CA20: =SUM(CA21:CA29) -> 0 | CB20: =SUM(CB21:CB29) -> 0 | CC20: =SUM(CC21:CC29) -> 0 | CD20: =SUM(CD21:CD29) -> 0 | CE20: =SUM(CF20:CK20) -> 0 | CF20: =SUM(CF21:CF29) -> 0 | CG20: =SUM(CG21:CG29) -> 0 | CH20: =SUM(CH21:CH29) -> 0 | CI20: =SUM(CI21:CI29) -> 0 | CJ20: =SUM(CJ21:CJ29) -> 0 | CK20: =SUM(CK21:CK29) -> 0 | CL20: =SUM(CM20:CR20) -> 0 | CM20: =SUM(CM21:CM29) -> 0 | CN20: =SUM(CN21:CN29) -> 0 | CO20: =SUM(CO21:CO29) -> 0 | CP20: =SUM(CP21:CP29) -> 0 | CQ20: =SUM(CQ21:CQ29) -> 0 | CR20: =SUM(CR21:CR29) -> 0 | CS20: =SUM(CT20:CY20) -> 0 | CT20: =SUM(CT21:CT29) -> 0 | CU20: =SUM(CU21:CU29) -> 0 | CV20: =SUM(CV21:CV29) -> 0 | CW20: =SUM(CW21:CW29) -> 0 | CX20: =SUM(CX21:CX29) -> 0 | CY20: =SUM(CY21:CY29) -> 0
D21: Потребители, указанные в пункте 1 критериев, утверждённых Постановлением * | E21: 211 | F21: =SUM(G21:L21) -> 0 | M21: =SUM(N21:S21) -> 0 | T21: =SUM(U21:Z21) -> 0 | AA21: =SUM(AB21:AG21) -> 0 | AH21: =SUM(AI21:AN21) -> 0 | AO21: =SUM(AP21:AU21) -> 0 | AV21: =SUM(AW21:BB21) -> 0 | BC21: =SUM(BD21:BI21) -> 0 | BJ21: =SUM(BK21:BP21) -> 0 | BQ21: =SUM(BR21:BW21) -> 0 | BX21: =SUM(BY21:CD21) -> 0 | CE21: =SUM(CF21:CK21) -> 0 | CL21: =SUM(CM21:CR21) -> 0 | CS21: =SUM(CT21:CY21) -> 0
D22: Потребители, указанные в пункте 2 критериев, утверждённых Постановлением * | E22: 212 | F22: =SUM(G22:L22) -> 0 | M22: =SUM(N22:S22) -> 0 | T22: =SUM(U22:Z22) -> 0 | AA22: =SUM(AB22:AG22) -> 0 | AH22: =SUM(AI22:AN22) -> 0 | AO22: =SUM(AP22:AU22) -> 0 | AV22: =SUM(AW22:BB22) -> 0 | BC22: =SUM(BD22:BI22) -> 0 | BJ22: =SUM(BK22:BP22) -> 0 | BQ22: =SUM(BR22:BW22) -> 0 | BX22: =SUM(BY22:CD22) -> 0 | CE22: =SUM(CF22:CK22) -> 0 | CL22: =SUM(CM22:CR22) -> 0 | CS22: =SUM(CT22:CY22) -> 0
D23: Потребители, указанные в пункте 3 критериев, утверждённых Постановлением * | E23: 213 | F23: =SUM(G23:L23) -> 0 | M23: =SUM(N23:S23) -> 0 | T23: =SUM(U23:Z23) -> 0 | AA23: =SUM(AB23:AG23) -> 0 | AH23: =SUM(AI23:AN23) -> 0 | AO23: =SUM(AP23:AU23) -> 0 | AV23: =SUM(AW23:BB23) -> 0 | BC23: =SUM(BD23:BI23) -> 0 | BJ23: =SUM(BK23:BP23) -> 0 | BQ23: =SUM(BR23:BW23) -> 0 | BX23: =SUM(BY23:CD23) -> 0 | CE23: =SUM(CF23:CK23) -> 0 | CL23: =SUM(CM23:CR23) -> 0 | CS23: =SUM(CT23:CY23) -> 0
D24: Потребители, указанные в пункте 4 критериев, утверждённых Постановлением * | E24: 214 | F24: =SUM(G24:L24) -> 0 | M24: =SUM(N24:S24) -> 0 | T24: =SUM(U24:Z24) -> 0 | AA24: =SUM(AB24:AG24) -> 0 | AH24: =SUM(AI24:AN24) -> 0 | AO24: =SUM(AP24:AU24) -> 0 | AV24: =SUM(AW24:BB24) -> 0 | BC24: =SUM(BD24:BI24) -> 0 | BJ24: =SUM(BK24:BP24) -> 0 | BQ24: =SUM(BR24:BW24) -> 0 | BX24: =SUM(BY24:CD24) -> 0 | CE24: =SUM(CF24:CK24) -> 0 | CL24: =SUM(CM24:CR24) -> 0 | CS24: =SUM(CT24:CY24) -> 0
D25: Потребители, указанные в пункте 5 критериев, утверждённых Постановлением * | E25: 215 | F25: =SUM(G25:L25) -> 0 | M25: =SUM(N25:S25) -> 0 | T25: =SUM(U25:Z25) -> 0 | AA25: =SUM(AB25:AG25) -> 0 | AH25: =SUM(AI25:AN25) -> 0 | AO25: =SUM(AP25:AU25) -> 0 | AV25: =SUM(AW25:BB25) -> 0 | BC25: =SUM(BD25:BI25) -> 0 | BJ25: =SUM(BK25:BP25) -> 0 | BQ25: =SUM(BR25:BW25) -> 0 | BX25: =SUM(BY25:CD25) -> 0 | CE25: =SUM(CF25:CK25) -> 0 | CL25: =SUM(CM25:CR25) -> 0 | CS25: =SUM(CT25:CY25) -> 0
D26: Потребители, указанные в пункте 6 критериев, утверждённых Постановлением * | E26: 216 | F26: =SUM(G26:L26) -> 0 | M26: =SUM(N26:S26) -> 0 | T26: =SUM(U26:Z26) -> 0 | AA26: =SUM(AB26:AG26) -> 0 | AH26: =SUM(AI26:AN26) -> 0 | AO26: =SUM(AP26:AU26) -> 0 | AV26: =SUM(AW26:BB26) -> 0 | BC26: =SUM(BD26:BI26) -> 0 | BJ26: =SUM(BK26:BP26) -> 0 | BQ26: =SUM(BR26:BW26) -> 0 | BX26: =SUM(BY26:CD26) -> 0 | CE26: =SUM(CF26:CK26) -> 0 | CL26: =SUM(CM26:CR26) -> 0 | CS26: =SUM(CT26:CY26) -> 0
D27: Потребители, указанные в пункте 7 критериев, утверждённых Постановлением * | E27: 217 | F27: =SUM(G27:L27) -> 0 | M27: =SUM(N27:S27) -> 0 | T27: =SUM(U27:Z27) -> 0 | AA27: =SUM(AB27:AG27) -> 0 | AH27: =SUM(AI27:AN27) -> 0 | AO27: =SUM(AP27:AU27) -> 0 | AV27: =SUM(AW27:BB27) -> 0 | BC27: =SUM(BD27:BI27) -> 0 | BJ27: =SUM(BK27:BP27) -> 0 | BQ27: =SUM(BR27:BW27) -> 0 | BX27: =SUM(BY27:CD27) -> 0 | CE27: =SUM(CF27:CK27) -> 0 | CL27: =SUM(CM27:CR27) -> 0 | CS27: =SUM(CT27:CY27) -> 0
D28: Потребители, указанные в пункте 8 критериев, утверждённых Постановлением * | E28: 218 | F28: =SUM(G28:L28) -> 0 | M28: =SUM(N28:S28) -> 0 | T28: =SUM(U28:Z28) -> 0 | AA28: =SUM(AB28:AG28) -> 0 | AH28: =SUM(AI28:AN28) -> 0 | AO28: =SUM(AP28:AU28) -> 0 | AV28: =SUM(AW28:BB28) -> 0 | BC28: =SUM(BD28:BI28) -> 0 | BJ28: =SUM(BK28:BP28) -> 0 | BQ28: =SUM(BR28:BW28) -> 0 | BX28: =SUM(BY28:CD28) -> 0 | CE28: =SUM(CF28:CK28) -> 0 | CL28: =SUM(CM28:CR28) -> 0 | CS28: =SUM(CT28:CY28) -> 0
D29: Потребители, указанные в пункте 9 критериев, утверждённых Постановлением * | E29: 219 | F29: =SUM(G29:L29) -> 0 | M29: =SUM(N29:S29) -> 0 | T29: =SUM(U29:Z29) -> 0 | AA29: =SUM(AB29:AG29) -> 0 | AH29: =SUM(AI29:AN29) -> 0 | AO29: =SUM(AP29:AU29) -> 0 | AV29: =SUM(AW29:BB29) -> 0 | BC29: =SUM(BD29:BI29) -> 0 | BJ29: =SUM(BK29:BP29) -> 0 | BQ29: =SUM(BR29:BW29) -> 0 | BX29: =SUM(BY29:CD29) -> 0 | CE29: =SUM(CF29:CK29) -> 0 | CL29: =SUM(CM29:CR29) -> 0 | CS29: =SUM(CT29:CY29) -> 0
D30: Промышленные и приравненные к ним потребители | E30: 220 | F30: =SUM(G30:L30) -> 0 | M30: =SUM(N30:S30) -> 0 | T30: =SUM(U30:Z30) -> 0 | AA30: =SUM(AB30:AG30) -> 0 | AH30: =SUM(AI30:AN30) -> 0 | AO30: =SUM(AP30:AU30) -> 0 | AV30: =SUM(AW30:BB30) -> 0 | BC30: =SUM(BD30:BI30) -> 0 | BJ30: =SUM(BK30:BP30) -> 0 | BQ30: =SUM(BR30:BW30) -> 0 | BX30: =SUM(BY30:CD30) -> 0 | CE30: =SUM(CF30:CK30) -> 0 | CL30: =SUM(CM30:CR30) -> 0 | CS30: =SUM(CT30:CY30) -> 0
D31: Электрифицированный железнодорожный транспорт | E31: 230 | F31: =SUM(G31:L31) -> 0 | M31: =SUM(N31:S31) -> 0 | T31: =SUM(U31:Z31) -> 0 | AA31: =SUM(AB31:AG31) -> 0 | AH31: =SUM(AI31:AN31) -> 0 | AO31: =SUM(AP31:AU31) -> 0 | AV31: =SUM(AW31:BB31) -> 0 | BC31: =SUM(BD31:BI31) -> 0 | BJ31: =SUM(BK31:BP31) -> 0 | BQ31: =SUM(BR31:BW31) -> 0 | BX31: =SUM(BY31:CD31) -> 0 | CE31: =SUM(CF31:CK31) -> 0 | CL31: =SUM(CM31:CR31) -> 0 | CS31: =SUM(CT31:CY31) -> 0
D32: Электрифицированный городской транспорт | E32: 240 | F32: =SUM(G32:L32) -> 0 | M32: =SUM(N32:S32) -> 0 | T32: =SUM(U32:Z32) -> 0 | AA32: =SUM(AB32:AG32) -> 0 | AH32: =SUM(AI32:AN32) -> 0 | AO32: =SUM(AP32:AU32) -> 0 | AV32: =SUM(AW32:BB32) -> 0 | BC32: =SUM(BD32:BI32) -> 0 | BJ32: =SUM(BK32:BP32) -> 0 | BQ32: =SUM(BR32:BW32) -> 0 | BX32: =SUM(BY32:CD32) -> 0 | CE32: =SUM(CF32:CK32) -> 0 | CL32: =SUM(CM32:CR32) -> 0 | CS32: =SUM(CT32:CY32) -> 0
... D36: Иные потребители (покупатели) | E36: 280 | F36: =SUM(G36:L36) -> 0 | M36: =SUM(N36:S36) -> 0 | T36: =SUM(U36:Z36) -> 0 | AA36: =SUM(AB36:AG36) -> 0 | AH36: =SUM(AI36:AN36) -> 0 | AO36: =SUM(AP36:AU36) -> 0 | AV36: =SUM(AW36:BB36) -> 0 | BC36: =SUM(BD36:BI36) -> 0 | BJ36: =SUM(BK36:BP36) -> 0 | BQ36: =SUM(BR36:BW36) -> 0 | BX36: =SUM(BY36:CD36) -> 0 | CE36: =SUM(CF36:CK36) -> 0 | CL36: =SUM(CM36:CR36) -> 0 | CS36: =SUM(CT36:CY36) -> 0
D37: Потребители с максимальной мощностью принадлежащих им энергопринимающих устройств от 670 кВт до 10 МВт | E37: 300 | F37: =SUM(G37:L37) -> 0 | G37: =SUM(G38,G48:G54) -> 0 | H37: =SUM(H38,H48:H54) -> 0 | I37: =SUM(I38,I48:I54) -> 0 | J37: =SUM(J38,J48:J54) -> 0 | K37: =SUM(K38,K48:K54) -> 0 | L37: =SUM(L38,L48:L54) -> 0 | M37: =SUM(N37:S37) -> 0 | N37: =SUM(N38,N48:N54) -> 0 | O37: =SUM(O38,O48:O54) -> 0 | P37: =SUM(P38,P48:P54) -> 0 | Q37: =SUM(Q38,Q48:Q54) -> 0 | R37: =SUM(R38,R48:R54) -> 0 | S37: =SUM(S38,S48:S54) -> 0 | T37: =SUM(U37:Z37) -> 0 | U37: =SUM(U38,U48:U54) -> 0 | V37: =SUM(V38,V48:V54) -> 0 | W37: =SUM(W38,W48:W54) -> 0 | X37: =SUM(X38,X48:X54) -> 0 | Y37: =SUM(Y38,Y48:Y54) -> 0 | Z37: =SUM(Z38,Z48:Z54) -> 0 | AA37: =SUM(AB37:AG37) -> 0 | AB37: =SUM(AB38,AB48:AB54) -> 0 | AC37: =SUM(AC38,AC48:AC54) -> 0 | AD37: =SUM(AD38,AD48:AD54) -> 0 | AE37: =SUM(AE38,AE48:AE54) -> 0 | AF37: =SUM(AF38,AF48:AF54) -> 0 | AG37: =SUM(AG38,AG48:AG54) -> 0 | AH37: =SUM(AI37:AN37) -> 3207.9546 | AI37: =SUM(AI38,AI48:AI54) -> 0 | AJ37: =SUM(AJ38,AJ48:AJ54) -> 2156.7365 | AK37: =SUM(AK38,AK48:AK54) -> 1029.0211 | AL37: =SUM(AL38,AL48:AL54) -> 22.19699 | AM37: =SUM(AM38,AM48:AM54) -> 0 | AN37: =SUM(AN38,AN48:AN54) -> 0 | AO37: =SUM(AP37:AU37) -> 22218.459 | AP37: =SUM(AP38,AP48:AP54) -> 0 | AQ37: =SUM(AQ38,AQ48:AQ54) -> 14700.112 | AR37: =SUM(AR38,AR48:AR54) -> 7354.6705 | AS37: =SUM(AS38,AS48:AS54) -> 163.67624 | AT37: =SUM(AT38,AT48:AT54) -> 0 | AU37: =SUM(AU38,AU48:AU54) -> 0 | AV37: =SUM(AW37:BB37) -> 4.675712 | AW37: =SUM(AW38,AW48:AW54) -> 0 | AX37: =SUM(AX38,AX48:AX54) -> 2.940342 | AY37: =SUM(AY38,AY48:AY54) -> 1.69819 | AZ37: =SUM(AZ38,AZ48:AZ54) -> 0.03718 | BA37: =SUM(BA38,BA48:BA54) -> 0 | BB37: =SUM(BB38,BB48:BB54) -> 0 | BC37: =SUM(BD37:BI37) -> 5383.1633 | BD37: =SUM(BD38,BD48:BD54) -> 0 | BE37: =SUM(BE38,BE48:BE54) -> 3385.2258 | BF37: =SUM(BF38,BF48:BF54) -> 1955.132 | BG37: =SUM(BG38,BG48:BG54) -> 42.80546 | BH37: =SUM(BH38,BH48:BH54) -> 0 | BI37: =SUM(BI38,BI48:BI54) -> 0 | BJ37: =SUM(BK37:BP37) -> 2869.2718 | BK37: =SUM(BK38,BK48:BK54) -> 0 | BL37: =SUM(BL38,BL48:BL54) -> 0 | BM37: =SUM(BM38,BM48:BM54) -> 141.723 | BN37: =SUM(BN38,BN48:BN54) -> 2727.5488 | BO37: =SUM(BO38,BO48:BO54) -> 0 | BP37: =SUM(BP38,BP48:BP54) -> 0 | BQ37: =SUM(BR37:BW37) -> 10055.312 | BR37: =SUM(BR38,BR48:BR54) -> 0 | BS37: =SUM(BS38,BS48:BS54) -> 0 | BT37: =SUM(BT38,BT48:BT54) -> 440.19006 | BU37: =SUM(BU38,BU48:BU54) -> 9615.1223 | BV37: =SUM(BV38,BV48:BV54) -> 0 | BW37: =SUM(BW38,BW48:BW54) -> 0 | BX37: =SUM(BY37:CD37) -> 5.056106 | BY37: =SUM(BY38,BY48:BY54) -> 0 | BZ37: =SUM(BZ38,BZ48:BZ54) -> 0 | CA37: =SUM(CA38,CA48:CA54) -> 0.236143 | CB37: =SUM(CB38,CB48:CB54) -> 4.819963 | CC37: =SUM(CC38,CC48:CC54) -> 0 | CD37: =SUM(CD38,CD48:CD54) -> 0 | CE37: =SUM(CF37:CK37) -> 5821.1122 | CF37: =SUM(CF38,CF48:CF54) -> 0 | CG37: =SUM(CG38,CG48:CG54) -> 0 | CH37: =SUM(CH38,CH48:CH54) -> 271.87225 | CI37: =SUM(CI38,CI48:CI54) -> 5549.2399 | CJ37: =SUM(CJ38,CJ48:CJ54) -> 0 | CK37: =SUM(CK38,CK48:CK54) -> 0 | CL37: =SUM(CM37:CR37) -> 5.353108 | CM37: =SUM(CM38,CM48:CM54) -> 0 | CN37: =SUM(CN38,CN48:CN54) -> 0 | CO37: =SUM(CO38,CO48:CO54) -> 0.269589 | CP37: =SUM(CP38,CP48:CP54) -> 5.083519 | CQ37: =SUM(CQ38,CQ48:CQ54) -> 0 | CR37: =SUM(CR38,CR48:CR54) -> 0 | CS37: =SUM(CT37:CY37) -> 5969.2873 | CT37: =SUM(CT38,CT48:CT54) -> 0 | CU37: =SUM(CU38,CU48:CU54) -> 0 | CV37: =SUM(CV38,CV48:CV54) -> 754.61807 | CW37: =SUM(CW38,CW48:CW54) -> 5214.6693 | CX37: =SUM(CX38,CX48:CX54) -> 0 | CY37: =SUM(CY38,CY48:CY54) -> 0
D38: Потребители электрической энергии (мощности) на территории Дальневосточного федерального округа, в отношении которых осуществляется доведение цен (тарифов) на электрическую энергию (мощность) до базовых уровней цен (тарифов) на электрическую энергию (мощность) | E38: 310 | F38: =SUM(G38:L38) -> 0 | G38: =SUM(G39:G47) -> 0 | H38: =SUM(H39:H47) -> 0 | I38: =SUM(I39:I47) -> 0 | J38: =SUM(J39:J47) -> 0 | K38: =SUM(K39:K47) -> 0 | L38: =SUM(L39:L47) -> 0 | M38: =SUM(N38:S38) -> 0 | N38: =SUM(N39:N47) -> 0 | O38: =SUM(O39:O47) -> 0 | P38: =SUM(P39:P47) -> 0 | Q38: =SUM(Q39:Q47) -> 0 | R38: =SUM(R39:R47) -> 0 | S38: =SUM(S39:S47) -> 0 | T38: =SUM(U38:Z38) -> 0 | U38: =SUM(U39:U47) -> 0 | V38: =SUM(V39:V47) -> 0 | W38: =SUM(W39:W47) -> 0 | X38: =SUM(X39:X47) -> 0 | Y38: =SUM(Y39:Y47) -> 0 | Z38: =SUM(Z39:Z47) -> 0 | AA38: =SUM(AB38:AG38) -> 0 | AB38: =SUM(AB39:AB47) -> 0 | AC38: =SUM(AC39:AC47) -> 0 | AD38: =SUM(AD39:AD47) -> 0 | AE38: =SUM(AE39:AE47) -> 0 | AF38: =SUM(AF39:AF47) -> 0 | AG38: =SUM(AG39:AG47) -> 0 | AH38: =SUM(AI38:AN38) -> 0 | AI38: =SUM(AI39:AI47) -> 0 | AJ38: =SUM(AJ39:AJ47) -> 0 | AK38: =SUM(AK39:AK47) -> 0 | AL38: =SUM(AL39:AL47) -> 0 | AM38: =SUM(AM39:AM47) -> 0 | AN38: =SUM(AN39:AN47) -> 0 | AO38: =SUM(AP38:AU38) -> 0 | AP38: =SUM(AP39:AP47) -> 0 | AQ38: =SUM(AQ39:AQ47) -> 0 | AR38: =SUM(AR39:AR47) -> 0 | AS38: =SUM(AS39:AS47) -> 0 | AT38: =SUM(AT39:AT47) -> 0 | AU38: =SUM(AU39:AU47) -> 0 | AV38: =SUM(AW38:BB38) -> 0 | AW38: =SUM(AW39:AW47) -> 0 | AX38: =SUM(AX39:AX47) -> 0 | AY38: =SUM(AY39:AY47) -> 0 | AZ38: =SUM(AZ39:AZ47) -> 0 | BA38: =SUM(BA39:BA47) -> 0 | BB38: =SUM(BB39:BB47) -> 0 | BC38: =SUM(BD38:BI38) -> 0 | BD38: =SUM(BD39:BD47) -> 0 | BE38: =SUM(BE39:BE47) -> 0 | BF38: =SUM(BF39:BF47) -> 0 | BG38: =SUM(BG39:BG47) -> 0 | BH38: =SUM(BH39:BH47) -> 0 | BI38: =SUM(BI39:BI47) -> 0 | BJ38: =SUM(BK38:BP38) -> 0 | BK38: =SUM(BK39:BK47) -> 0 | BL38: =SUM(BL39:BL47) -> 0 | BM38: =SUM(BM39:BM47) -> 0 | BN38: =SUM(BN39:BN47) -> 0 | BO38: =SUM(BO39:BO47) -> 0 | BP38: =SUM(BP39:BP47) -> 0 | BQ38: =SUM(BR38:BW38) -> 0 | BR38: =SUM(BR39:BR47) -> 0 | BS38: =SUM(BS39:BS47) -> 0 | BT38: =SUM(BT39:BT47) -> 0 | BU38: =SUM(BU39:BU47) -> 0 | BV38: =SUM(BV39:BV47) -> 0 | BW38: =SUM(BW39:BW47) -> 0 | BX38: =SUM(BY38:CD38) -> 0 | BY38: =SUM(BY39:BY47) -> 0 | BZ38: =SUM(BZ39:BZ47) -> 0 | CA38: =SUM(CA39:CA47) -> 0 | CB38: =SUM(CB39:CB47) -> 0 | CC38: =SUM(CC39:CC47) -> 0 | CD38: =SUM(CD39:CD47) -> 0 | CE38: =SUM(CF38:CK38) -> 0 | CF38: =SUM(CF39:CF47) -> 0 | CG38: =SUM(CG39:CG47) -> 0 | CH38: =SUM(CH39:CH47) -> 0 | CI38: =SUM(CI39:CI47) -> 0 | CJ38: =SUM(CJ39:CJ47) -> 0 | CK38: =SUM(CK39:CK47) -> 0 | CL38: =SUM(CM38:CR38) -> 0 | CM38: =SUM(CM39:CM47) -> 0 | CN38: =SUM(CN39:CN47) -> 0 | CO38: =SUM(CO39:CO47) -> 0 | CP38: =SUM(CP39:CP47) -> 0 | CQ38: =SUM(CQ39:CQ47) -> 0 | CR38: =SUM(CR39:CR47) -> 0 | CS38: =SUM(CT38:CY38) -> 0 | CT38: =SUM(CT39:CT47) -> 0 | CU38: =SUM(CU39:CU47) -> 0 | CV38: =SUM(CV39:CV47) -> 0 | CW38: =SUM(CW39:CW47) -> 0 | CX38: =SUM(CX39:CX47) -> 0 | CY38: =SUM(CY39:CY47) -> 0
D39: Потребители, указанные в пункте 1 критериев, утверждённых Постановлением * | E39: 311 | F39: =SUM(G39:L39) -> 0 | M39: =SUM(N39:S39) -> 0 | T39: =SUM(U39:Z39) -> 0 | AA39: =SUM(AB39:AG39) -> 0 | AH39: =SUM(AI39:AN39) -> 0 | AO39: =SUM(AP39:AU39) -> 0 | AV39: =SUM(AW39:BB39) -> 0 | BC39: =SUM(BD39:BI39) -> 0 | BJ39: =SUM(BK39:BP39) -> 0 | BQ39: =SUM(BR39:BW39) -> 0 | BX39: =SUM(BY39:CD39) -> 0 | CE39: =SUM(CF39:CK39) -> 0 | CL39: =SUM(CM39:CR39) -> 0 | CS39: =SUM(CT39:CY39) -> 0
D40: Потребители, указанные в пункте 2 критериев, утверждённых Постановлением * | E40: 312 | F40: =SUM(G40:L40) -> 0 | M40: =SUM(N40:S40) -> 0 | T40: =SUM(U40:Z40) -> 0 | AA40: =SUM(AB40:AG40) -> 0 | AH40: =SUM(AI40:AN40) -> 0 | AO40: =SUM(AP40:AU40) -> 0 | AV40: =SUM(AW40:BB40) -> 0 | BC40: =SUM(BD40:BI40) -> 0 | BJ40: =SUM(BK40:BP40) -> 0 | BQ40: =SUM(BR40:BW40) -> 0 | BX40: =SUM(BY40:CD40) -> 0 | CE40: =SUM(CF40:CK40) -> 0 | CL40: =SUM(CM40:CR40) -> 0 | CS40: =SUM(CT40:CY40) -> 0
D41: Потребители, указанные в пункте 3 критериев, утверждённых Постановлением * | E41: 313 | F41: =SUM(G41:L41) -> 0 | M41: =SUM(N41:S41) -> 0 | T41: =SUM(U41:Z41) -> 0 | AA41: =SUM(AB41:AG41) -> 0 | AH41: =SUM(AI41:AN41) -> 0 | AO41: =SUM(AP41:AU41) -> 0 | AV41: =SUM(AW41:BB41) -> 0 | BC41: =SUM(BD41:BI41) -> 0 | BJ41: =SUM(BK41:BP41) -> 0 | BQ41: =SUM(BR41:BW41) -> 0 | BX41: =SUM(BY41:CD41) -> 0 | CE41: =SUM(CF41:CK41) -> 0 | CL41: =SUM(CM41:CR41) -> 0 | CS41: =SUM(CT41:CY41) -> 0
D42: Потребители, указанные в пункте 4 критериев, утверждённых Постановлением * | E42: 314 | F42: =SUM(G42:L42) -> 0 | M42: =SUM(N42:S42) -> 0 | T42: =SUM(U42:Z42) -> 0 | AA42: =SUM(AB42:AG42) -> 0 | AH42: =SUM(AI42:AN42) -> 0 | AO42: =SUM(AP42:AU42) -> 0 | AV42: =SUM(AW42:BB42) -> 0 | BC42: =SUM(BD42:BI42) -> 0 | BJ42: =SUM(BK42:BP42) -> 0 | BQ42: =SUM(BR42:BW42) -> 0 | BX42: =SUM(BY42:CD42) -> 0 | CE42: =SUM(CF42:CK42) -> 0 | CL42: =SUM(CM42:CR42) -> 0 | CS42: =SUM(CT42:CY42) -> 0
D43: Потребители, указанные в пункте 5 критериев, утверждённых Постановлением * | E43: 315 | F43: =SUM(G43:L43) -> 0 | M43: =SUM(N43:S43) -> 0 | T43: =SUM(U43:Z43) -> 0 | AA43: =SUM(AB43:AG43) -> 0 | AH43: =SUM(AI43:AN43) -> 0 | AO43: =SUM(AP43:AU43) -> 0 | AV43: =SUM(AW43:BB43) -> 0 | BC43: =SUM(BD43:BI43) -> 0 | BJ43: =SUM(BK43:BP43) -> 0 | BQ43: =SUM(BR43:BW43) -> 0 | BX43: =SUM(BY43:CD43) -> 0 | CE43: =SUM(CF43:CK43) -> 0 | CL43: =SUM(CM43:CR43) -> 0 | CS43: =SUM(CT43:CY43) -> 0
D44: Потребители, указанные в пункте 6 критериев, утверждённых Постановлением * | E44: 316 | F44: =SUM(G44:L44) -> 0 | M44: =SUM(N44:S44) -> 0 | T44: =SUM(U44:Z44) -> 0 | AA44: =SUM(AB44:AG44) -> 0 | AH44: =SUM(AI44:AN44) -> 0 | AO44: =SUM(AP44:AU44) -> 0 | AV44: =SUM(AW44:BB44) -> 0 | BC44: =SUM(BD44:BI44) -> 0 | BJ44: =SUM(BK44:BP44) -> 0 | BQ44: =SUM(BR44:BW44) -> 0 | BX44: =SUM(BY44:CD44) -> 0 | CE44: =SUM(CF44:CK44) -> 0 | CL44: =SUM(CM44:CR44) -> 0 | CS44: =SUM(CT44:CY44) -> 0
D45: Потребители, указанные в пункте 7 критериев, утверждённых Постановлением * | E45: 317 | F45: =SUM(G45:L45) -> 0 | M45: =SUM(N45:S45) -> 0 | T45: =SUM(U45:Z45) -> 0 | AA45: =SUM(AB45:AG45) -> 0 | AH45: =SUM(AI45:AN45) -> 0 | AO45: =SUM(AP45:AU45) -> 0 | AV45: =SUM(AW45:BB45) -> 0 | BC45: =SUM(BD45:BI45) -> 0 | BJ45: =SUM(BK45:BP45) -> 0 | BQ45: =SUM(BR45:BW45) -> 0 | BX45: =SUM(BY45:CD45) -> 0 | CE45: =SUM(CF45:CK45) -> 0 | CL45: =SUM(CM45:CR45) -> 0 | CS45: =SUM(CT45:CY45) -> 0
D46: Потребители, указанные в пункте 8 критериев, утверждённых Постановлением * | E46: 318 | F46: =SUM(G46:L46) -> 0 | M46: =SUM(N46:S46) -> 0 | T46: =SUM(U46:Z46) -> 0 | AA46: =SUM(AB46:AG46) -> 0 | AH46: =SUM(AI46:AN46) -> 0 | AO46: =SUM(AP46:AU46) -> 0 | AV46: =SUM(AW46:BB46) -> 0 | BC46: =SUM(BD46:BI46) -> 0 | BJ46: =SUM(BK46:BP46) -> 0 | BQ46: =SUM(BR46:BW46) -> 0 | BX46: =SUM(BY46:CD46) -> 0 | CE46: =SUM(CF46:CK46) -> 0 | CL46: =SUM(CM46:CR46) -> 0 | CS46: =SUM(CT46:CY46) -> 0
D47: Потребители, указанные в пункте 9 критериев, утверждённых Постановлением * | E47: 319 | F47: =SUM(G47:L47) -> 0 | M47: =SUM(N47:S47) -> 0 | T47: =SUM(U47:Z47) -> 0 | AA47: =SUM(AB47:AG47) -> 0 | AH47: =SUM(AI47:AN47) -> 0 | AO47: =SUM(AP47:AU47) -> 0 | AV47: =SUM(AW47:BB47) -> 0 | BC47: =SUM(BD47:BI47) -> 0 | BJ47: =SUM(BK47:BP47) -> 0 | BQ47: =SUM(BR47:BW47) -> 0 | BX47: =SUM(BY47:CD47) -> 0 | CE47: =SUM(CF47:CK47) -> 0 | CL47: =SUM(CM47:CR47) -> 0 | CS47: =SUM(CT47:CY47) -> 0
...

Sheet 2
F1: 1PC | G1: 1PC | H1: 2PC | I1: 2PC | J1: 34PC | K1: 34PC | L1: 34PC | M1: 34PC | N1: 56PC | O1: 56PC | P1: 56PC | Q1: 56PC
F3: enrVlm1pc | G3: enrCost1pc | H3: enrVlm2pc | I3: enrCost2pc | J3: enrVlm34pc | K3: enrCost34pc | L3: pwrVlm34pc | M3: pwrCost34pc | N3: enrVlm56pc | O3: enrCost56pc | P3: pwrVlm56pc | Q3: pwrCost56pc
D8: Раздел I. Полезный отпуск электроэнергии и мощности, реализуемой по нерегулируемым ценам
D9: Б. Полезный отпуск электроэнергии и мощности, реализуемой по нерегулируемым (в ценовых зонах ОРЭ) и по регулируемым (в неценовых зонах ОРЭ) ценам по договорам купли-продажи
D10: ООО "Нижневартовская энергосбытовая компания" | Q10: Коды по ОКЕИ: 1000 киловатт-часов – 245, мегаватт – 215, тысяча рублей – 384
D11: * Постановление Правительства Российской Федерации от 26 ноября 2021 г. №2062 | G11: без НДС | I11: без НДС | K11: без НДС | M11: без НДС | O11: без НДС | Q11: без НДС
D12: Потребители | E12: Код строки | F12: 1 ценовая категория | H12: 2 ценовая категория | J12: 3 и 4 ценовые категории | L12: 3 и 4 ценовые категории | N12: 5 и 6 ценовые категории | P12: 5 и 6 ценовые категории
F13: Объём электрической энергии (мощности) потребителей за отчётный месяц (год) | G13: Стоимость электрической энергии (мощности) потребителей за отчётный месяц (год) | H13: Объём электрической энергии (мощности) потребителей за отчётный месяц (год) | I13: Стоимость электрической энергии (мощности) потребителей за отчётный месяц (год) | J13: Объём электрической энергии потребителей за отчётный месяц (год) | K13: Стоимость электрической энергии потребителей за отчётный месяц (год) | L13: Объём электрической мощности за отчётный месяц (год) | M13: Стоимость электрической мощности за отчётный месяц (год) | N13: Объём электрической энергии потребителей за отчётный месяц (год) | O13: Стоимость электрической энергии потребителей за отчётный месяц (год) | P13: Объём электрической мощности за отчётный месяц (год) | Q13: Стоимость электрической мощности за отчётный месяц (год)
F16: тыс.кВтч | G16: тыс.руб. | H16: тыс.кВтч | I16: тыс.руб. | J16: тыс.кВтч | K16: тыс.руб. | L16: МВт | M16: тыс.руб. | N16: тыс.кВтч | O16: тыс.руб. | P16: МВт | Q16: тыс.руб.
D17: 1 | E17: 2 | F17: 3 | G17: 4 | H17: 5 | I17: 6 | J17: 7 | K17: 8 | L17: 9 | M17: 10 | N17: 11 | O17: 12 | P17: 13 | Q17: 14
D18: Поставка электрической энергии гарантирующим поставщиком потребителям (покупателям), функционирующим в зоне деятельности данного ГП | E18: 100 | F18: =SUM(F19,F37,F55) -> 131.06511 | G18: =SUM(G19,G37,G55) -> 595.23612 | H18: =SUM(H19,H37,H55) -> 0 | I18: =SUM(I19,I37,I55) -> 0 | J18: =SUM(J19,J37,J55) -> 8.52637 | K18: =SUM(K19,K37,K55) -> 27.64225 | L18: =SUM(L19,L37,L55) -> 0.014058 | M18: =SUM(M19,M37,M55) -> 16.18502 | ... Q18: =SUM(Q19,Q37,Q55) -> 0
